BEGIN:VCALENDAR
VERSION:2.0
PRODID:-//Evangelische Kirchenmusik Salzburg-Tirol - ECPv6.15.20//NONSGML v1.0//EN
CALSCALE:GREGORIAN
METHOD:PUBLISH
X-WR-CALNAME:Evangelische Kirchenmusik Salzburg-Tirol
X-ORIGINAL-URL:https://www.evangelischekirchenmusik.at
X-WR-CALDESC:Veranstaltungen für Evangelische Kirchenmusik Salzburg-Tirol
REFRESH-INTERVAL;VALUE=DURATION:PT1H
X-Robots-Tag:noindex
X-PUBLISHED-TTL:PT1H
BEGIN:VTIMEZONE
TZID:Europe/Vienna
BEGIN:DAYLIGHT
TZOFFSETFROM:+0100
TZOFFSETTO:+0200
TZNAME:CEST
DTSTART:20250330T010000
END:DAYLIGHT
BEGIN:STANDARD
TZOFFSETFROM:+0200
TZOFFSETTO:+0100
TZNAME:CET
DTSTART:20251026T010000
END:STANDARD
BEGIN:DAYLIGHT
TZOFFSETFROM:+0100
TZOFFSETTO:+0200
TZNAME:CEST
DTSTART:20260329T010000
END:DAYLIGHT
BEGIN:STANDARD
TZOFFSETFROM:+0200
TZOFFSETTO:+0100
TZNAME:CET
DTSTART:20261025T010000
END:STANDARD
BEGIN:DAYLIGHT
TZOFFSETFROM:+0100
TZOFFSETTO:+0200
TZNAME:CEST
DTSTART:20270328T010000
END:DAYLIGHT
BEGIN:STANDARD
TZOFFSETFROM:+0200
TZOFFSETTO:+0100
TZNAME:CET
DTSTART:20271031T010000
END:STANDARD
END:VTIMEZONE
BEGIN:VEVENT
DTSTART;TZID=Europe/Vienna:20260424T193000
DTEND;TZID=Europe/Vienna:20260424T213000
DTSTAMP:20260424T113815
CREATED:20260121T195602Z
LAST-MODIFIED:20260121T200008Z
UID:10000197-1777059000-1777066200@www.evangelischekirchenmusik.at
SUMMARY:Cantorey Probe
DESCRIPTION:Die Probe findet im Saal 1 im Evangelischen Zentrum Salzburg Christuskirche statt.
URL:https://www.evangelischekirchenmusik.at/termin/cantorey-probe-2/2026-04-24/
LOCATION:Evangelisches Zentrum Christuskirche\, Schwarzstraße 25\, Salzburg\, 5020\, Österreich
CATEGORIES:Probe Cantorey
ATTACH;FMTTYPE=image/png:https://www.evangelischekirchenmusik.at/wp-content/uploads/2021/09/Cantorey-PROBE-Neue-Version-20SEP2021.png
END:VEVENT
END:VCALENDAR